BEGIN:VCALENDAR
VERSION:2.0
PRODID:-//JFCS of SNJ - ECPv6.15.12.1//NONSGML v1.0//EN
CALSCALE:GREGORIAN
METHOD:PUBLISH
X-ORIGINAL-URL:https://jfcssnj.org
X-WR-CALDESC:Events for JFCS of SNJ
REFRESH-INTERVAL;VALUE=DURATION:PT1H
X-Robots-Tag:noindex
X-PUBLISHED-TTL:PT1H
BEGIN:VTIMEZONE
TZID:America/New_York
BEGIN:DAYLIGHT
TZOFFSETFROM:-0500
TZOFFSETTO:-0400
TZNAME:EDT
DTSTART:20240310T070000
END:DAYLIGHT
BEGIN:STANDARD
TZOFFSETFROM:-0400
TZOFFSETTO:-0500
TZNAME:EST
DTSTART:20241103T060000
END:STANDARD
BEGIN:DAYLIGHT
TZOFFSETFROM:-0500
TZOFFSETTO:-0400
TZNAME:EDT
DTSTART:20250309T070000
END:DAYLIGHT
BEGIN:STANDARD
TZOFFSETFROM:-0400
TZOFFSETTO:-0500
TZNAME:EST
DTSTART:20251102T060000
END:STANDARD
BEGIN:DAYLIGHT
TZOFFSETFROM:-0500
TZOFFSETTO:-0400
TZNAME:EDT
DTSTART:20260308T070000
END:DAYLIGHT
BEGIN:STANDARD
TZOFFSETFROM:-0400
TZOFFSETTO:-0500
TZNAME:EST
DTSTART:20261101T060000
END:STANDARD
END:VTIMEZONE
BEGIN:VTIMEZONE
TZID:UTC
BEGIN:STANDARD
TZOFFSETFROM:+0000
TZOFFSETTO:+0000
TZNAME:UTC
DTSTART:20240101T000000
END:STANDARD
END:VTIMEZONE
BEGIN:VEVENT
DTSTART;TZID=America/New_York:20250109T190000
DTEND;TZID=America/New_York:20250109T213000
DTSTAMP:20260425T173841
CREATED:20241217T174842Z
LAST-MODIFIED:20241217T174842Z
UID:22517-1736449200-1736458200@jfcssnj.org
SUMMARY:Flyers Jewish Heritage Night
DESCRIPTION:Join the Jewish Federation of South Jersey for the Flyers Jewish Heritage Night on January 9th at 7pm! Every ticket purchased includes a custom Jewish Heritage Night apron. \nOrder Delivery: All tickets will be sent digitally to you to be able to access. Also following your purchase you’re given a unique link that you can share with your friends\, family\, co-workers\, neighbors\, etc. via text\, email\, and social media to extend to them this special offer! \nTicket Policies: Tickets cannot be resold. The barcodes will not register on third party websites and we are not responsible for any penalty fees incurred with attempt to resale. \nAny Questions: For more information or questions please contact wfc-groupevents@comcastspectacor.com \nTo order tickets\, click HERE.
URL:https://jfcssnj.org/event/flyers-jewish-heritage-night/
LOCATION:Wells Fargo Center\, South Broad Street 3601\, Philadelphia\, PA\, 19148\, United States
CATEGORIES:Community Outreach
ATTACH;FMTTYPE=image/png:https://jfcssnj.org/wp-content/uploads/2024/12/flyers.png
END:VEVENT
BEGIN:VEVENT
DTSTART;TZID=UTC:20250123T190000
DTEND;TZID=UTC:20250123T203000
DTSTAMP:20260425T173841
CREATED:20250107T184118Z
LAST-MODIFIED:20250107T184118Z
UID:22568-1737658800-1737664200@jfcssnj.org
SUMMARY:This Life Counts
DESCRIPTION:JFCS and Kellman Brown Academy are proud to present This Life Counts\, a suicide awareness and prevention program for teens (age 13+) along with parents and grandparents\, educators\, and community members. During this engaging presentation\, an expert panel will discuss the role of depression; warning signs\, risk factors\, and stressors; protective factors that help prevent youth suicide\, as well as resources and tools for communication. Free & open to the community! Walk-ins are welcome but advance RSVP is encouraged by clicking HERE.  \nQuestions? Contact Emily Witmier at (856) 424-1333 ext. 1415 or ewitmier@jfedsnj.org.  \nGrant funding provided by the Raymond & Gertrude R. Saltzman Foundation and the Camden County Board of Commissioners.
URL:https://jfcssnj.org/event/this-life-counts-6/
LOCATION:Kellman Brown Academy\, 1007 Laurel Oak Rd\, Voorhees Township\, New Jersey\, 08043
CATEGORIES:Community Outreach
ATTACH;FMTTYPE=image/png:https://jfcssnj.org/wp-content/uploads/2025/01/TLC.png
END:VEVENT
END:VCALENDAR