BEGIN:VCALENDAR
VERSION:2.0
PRODID:-//JFCS of SNJ - ECPv6.15.12.1//NONSGML v1.0//EN
CALSCALE:GREGORIAN
METHOD:PUBLISH
X-ORIGINAL-URL:https://jfcssnj.org
X-WR-CALDESC:Events for JFCS of SNJ
REFRESH-INTERVAL;VALUE=DURATION:PT1H
X-Robots-Tag:noindex
X-PUBLISHED-TTL:PT1H
BEGIN:VTIMEZONE
TZID:America/New_York
BEGIN:DAYLIGHT
TZOFFSETFROM:-0500
TZOFFSETTO:-0400
TZNAME:EDT
DTSTART:20240310T070000
END:DAYLIGHT
BEGIN:STANDARD
TZOFFSETFROM:-0400
TZOFFSETTO:-0500
TZNAME:EST
DTSTART:20241103T060000
END:STANDARD
BEGIN:DAYLIGHT
TZOFFSETFROM:-0500
TZOFFSETTO:-0400
TZNAME:EDT
DTSTART:20250309T070000
END:DAYLIGHT
BEGIN:STANDARD
TZOFFSETFROM:-0400
TZOFFSETTO:-0500
TZNAME:EST
DTSTART:20251102T060000
END:STANDARD
BEGIN:DAYLIGHT
TZOFFSETFROM:-0500
TZOFFSETTO:-0400
TZNAME:EDT
DTSTART:20260308T070000
END:DAYLIGHT
BEGIN:STANDARD
TZOFFSETFROM:-0400
TZOFFSETTO:-0500
TZNAME:EST
DTSTART:20261101T060000
END:STANDARD
END:VTIMEZONE
BEGIN:VEVENT
DTSTART;TZID=America/New_York:20250202T090000
DTEND;TZID=America/New_York:20250202T190000
DTSTAMP:20260425T162617
CREATED:20241217T174101Z
LAST-MODIFIED:20241217T174101Z
UID:22514-1738486800-1738522800@jfcssnj.org
SUMMARY:Super Sunday & Community Mitzvah Day
DESCRIPTION:Jewish Federation of Southern New Jersey’s largest annual phone-a-thon style fundraiser and good deeds day\, Super Sunday & Community Mitzvah Day\, is back!
URL:https://jfcssnj.org/event/super-sunday-community-mitzvah-day-2/
LOCATION:Katz JCC\, housed in the Gottlieb Center for Jewish Life\, 1301 Springdale Road\, Cherry Hill\, NJ\, 08003\, United States
CATEGORIES:Community Outreach
ATTACH;FMTTYPE=image/jpeg:https://jfcssnj.org/wp-content/uploads/2024/12/cmd.jpg
END:VEVENT
END:VCALENDAR