BEGIN:VCALENDAR
VERSION:2.0
PRODID:-//JFCS of SNJ - ECPv6.15.12.1//NONSGML v1.0//EN
CALSCALE:GREGORIAN
METHOD:PUBLISH
X-WR-CALNAME:JFCS of SNJ
X-ORIGINAL-URL:https://jfcssnj.org
X-WR-CALDESC:Events for JFCS of SNJ
REFRESH-INTERVAL;VALUE=DURATION:PT1H
X-Robots-Tag:noindex
X-PUBLISHED-TTL:PT1H
BEGIN:VTIMEZONE
TZID:America/New_York
BEGIN:DAYLIGHT
TZOFFSETFROM:-0500
TZOFFSETTO:-0400
TZNAME:EDT
DTSTART:20240310T070000
END:DAYLIGHT
BEGIN:STANDARD
TZOFFSETFROM:-0400
TZOFFSETTO:-0500
TZNAME:EST
DTSTART:20241103T060000
END:STANDARD
BEGIN:DAYLIGHT
TZOFFSETFROM:-0500
TZOFFSETTO:-0400
TZNAME:EDT
DTSTART:20250309T070000
END:DAYLIGHT
BEGIN:STANDARD
TZOFFSETFROM:-0400
TZOFFSETTO:-0500
TZNAME:EST
DTSTART:20251102T060000
END:STANDARD
BEGIN:DAYLIGHT
TZOFFSETFROM:-0500
TZOFFSETTO:-0400
TZNAME:EDT
DTSTART:20260308T070000
END:DAYLIGHT
BEGIN:STANDARD
TZOFFSETFROM:-0400
TZOFFSETTO:-0500
TZNAME:EST
DTSTART:20261101T060000
END:STANDARD
END:VTIMEZONE
BEGIN:VEVENT
DTSTART;TZID=America/New_York:20250401T150000
DTEND;TZID=America/New_York:20250401T163000
DTSTAMP:20260425T140048
CREATED:20250206T135418Z
LAST-MODIFIED:20250206T164950Z
UID:22724-1743519600-1743525000@jfcssnj.org
SUMMARY:The Empty Chair at the Seder
DESCRIPTION:A Passover Workshop for Bereaved Jews\nJoin us for a conversation honoring the memory and life of those you have lost\, while seeking meaning and comfort through the themes of Passover. This program will be co-facilitated by Rabbi Richard F. Address\, Director of Jewish Sacred Aging\, and Reva Farenback-Brateman\, JFCS Geriatric Case Manager & Community Educator. Free and open to all. Light refreshments will be served. \nAdvance RSVP preferred by contacting Reva Farenback-Brateman: rfbrateman@jfedsnj.org or (856) 424-1333 ext. 1184. \nGrant funding provided by the Raymond & Gertrude R. Saltzman Foundation
URL:https://jfcssnj.org/event/the-empty-chair-at-the-seder/
LOCATION:Katz JCC\, housed in the Gottlieb Center for Jewish Life\, 1301 Springdale Road\, Cherry Hill\, NJ\, 08003\, United States
CATEGORIES:Community Outreach,Support Group
ATTACH;FMTTYPE=image/png:https://jfcssnj.org/wp-content/uploads/2025/02/the-empty-chair-e1756407891844.png
ORGANIZER;CN="Reva Farenback-Brateman":MAILTO:rfbrateman@jfedsnj.org
END:VEVENT
BEGIN:VEVENT
DTSTART;TZID=America/New_York:20250403T183000
DTEND;TZID=America/New_York:20250403T213000
DTSTAMP:20260425T140048
CREATED:20240603T175127Z
LAST-MODIFIED:20250122T153057Z
UID:21700-1743705000-1743715800@jfcssnj.org
SUMMARY:Stepping Out with JFCS
DESCRIPTION:Mark your calendar for our annual “party with a purpose\,” Stepping Out with JFCS! More details to follow…
URL:https://jfcssnj.org/event/stepping-out-with-jfcs-5/
LOCATION:Jonathan Sinay Building\, Springdale Road 1721\, Cherry Hill Township\, NJ\, 08003\, United States
CATEGORIES:Community Outreach
ATTACH;FMTTYPE=image/png:https://jfcssnj.org/wp-content/uploads/2024/06/Stepping-Out.png
ORGANIZER;CN="Kelly Guiliano":MAILTO:kguiliano@jfedsnj.org
END:VEVENT
END:VCALENDAR