BEGIN:VCALENDAR
VERSION:2.0
PRODID:-//JFCS of SNJ - ECPv6.15.12.1//NONSGML v1.0//EN
CALSCALE:GREGORIAN
METHOD:PUBLISH
X-WR-CALNAME:JFCS of SNJ
X-ORIGINAL-URL:https://jfcssnj.org
X-WR-CALDESC:Events for JFCS of SNJ
REFRESH-INTERVAL;VALUE=DURATION:PT1H
X-Robots-Tag:noindex
X-PUBLISHED-TTL:PT1H
BEGIN:VTIMEZONE
TZID:America/New_York
BEGIN:DAYLIGHT
TZOFFSETFROM:-0500
TZOFFSETTO:-0400
TZNAME:EDT
DTSTART:20240310T070000
END:DAYLIGHT
BEGIN:STANDARD
TZOFFSETFROM:-0400
TZOFFSETTO:-0500
TZNAME:EST
DTSTART:20241103T060000
END:STANDARD
BEGIN:DAYLIGHT
TZOFFSETFROM:-0500
TZOFFSETTO:-0400
TZNAME:EDT
DTSTART:20250309T070000
END:DAYLIGHT
BEGIN:STANDARD
TZOFFSETFROM:-0400
TZOFFSETTO:-0500
TZNAME:EST
DTSTART:20251102T060000
END:STANDARD
BEGIN:DAYLIGHT
TZOFFSETFROM:-0500
TZOFFSETTO:-0400
TZNAME:EDT
DTSTART:20260308T070000
END:DAYLIGHT
BEGIN:STANDARD
TZOFFSETFROM:-0400
TZOFFSETTO:-0500
TZNAME:EST
DTSTART:20261101T060000
END:STANDARD
END:VTIMEZONE
BEGIN:VEVENT
DTSTART;TZID=America/New_York:20250507T140000
DTEND;TZID=America/New_York:20250507T153000
DTSTAMP:20260425T124746
CREATED:20250409T004436Z
LAST-MODIFIED:20250423T191639Z
UID:23000-1746626400-1746631800@jfcssnj.org
SUMMARY:Decisions for Tomorrow: Funeral Planning and Family Conversations
DESCRIPTION:Join JFCS on Wednesday\, May 7 for a compassionate and candid conversation about funeral planning facilitated by Alison Platt of Platt Memorial Chapels. Topics covered will include: \n\nWhat is involved in pre-paying for a funeral? \nWhat kinds of decisions are families asked to make? \nWhat if family members disagree on these decisions?\nCan someone make specific requests in advance?\n\nThis program is free and open to community members of every faith and background. Advance RSVP is requested by contacting Reva Farenback-Brateman at 856-424-1333 ext. 1184 or rfbrateman@jfedsnj.org.  \nGrant funding provided by the Raymond & Gertrude R. Saltzman Foundation \n  \n 
URL:https://jfcssnj.org/event/funeral-planning-and-family-conversations/
LOCATION:Katz JCC\, housed in the Gottlieb Center for Jewish Life\, 1301 Springdale Road\, Cherry Hill\, NJ\, 08003\, United States
CATEGORIES:Community Outreach
ATTACH;FMTTYPE=image/jpeg:https://jfcssnj.org/wp-content/uploads/2025/04/planning-a-funeral-article_image_details.jpg
ORGANIZER;CN="Reva Farenback-Brateman":MAILTO:rfbrateman@jfedsnj.org
END:VEVENT
BEGIN:VEVENT
DTSTART;TZID=America/New_York:20250514T183000
DTEND;TZID=America/New_York:20250514T203000
DTSTAMP:20260425T124746
CREATED:20250128T162431Z
LAST-MODIFIED:20250409T001010Z
UID:22624-1747247400-1747254600@jfcssnj.org
SUMMARY:The Seasoned Professional
DESCRIPTION:Are you an experienced professional (age 50+) navigating today’s job market? Whether you’ve been downsized\, are seeking a career change\, or are simply looking for financial stability\, The Seasoned Professional is designed to empower you with the tools\, strategies\, and confidence to land your next great opportunity! This workshop will address the unique challenges older workers may face\, such as age bias\, while offering strategies on how to showcase your accomplishments and capitalize on your network to secure a new position. Don’t let outdated hiring perceptions hold you back—this session will help you take control of your career and secure fulfilling\, sustainable employment. Join us for an inspiring and informative experience and REGISTER NOW to take the next step toward your career comeback! \nOur panel of industry experts includes: \n\nNadine Halevy (VP\, Director of Talent Acquisition at Janney\, Montgomery Scott\, LLC)\nDiane Irwin\, CPRW\, CHJMC\, CEIP (Dynamic Careers – Career Coach\, Interview Coach)  \nMelissa Vining (Senior Career Coach at MassHire Downtown Boston)\nMatt Fradin\, Esq. (General Counsel of True Talent Advisory\, who will share his personal career transition story) \n\nGrant funding provided by the Louis Silverman Community Grants Endowment Fund.
URL:https://jfcssnj.org/event/the-seasoned-professional/
LOCATION:Jonathan Sinay Building\, Springdale Road 1721\, Cherry Hill Township\, NJ\, 08003\, United States
CATEGORIES:Community Outreach
ATTACH;FMTTYPE=image/jpeg:https://jfcssnj.org/wp-content/uploads/2025/01/Seasoned-Professional-Flyer-2025_Page_1_Image_0001.jpg
END:VEVENT
END:VCALENDAR