BEGIN:VCALENDAR
VERSION:2.0
PRODID:-//JFCS of SNJ - ECPv6.15.12.1//NONSGML v1.0//EN
CALSCALE:GREGORIAN
METHOD:PUBLISH
X-ORIGINAL-URL:https://jfcssnj.org
X-WR-CALDESC:Events for JFCS of SNJ
REFRESH-INTERVAL;VALUE=DURATION:PT1H
X-Robots-Tag:noindex
X-PUBLISHED-TTL:PT1H
BEGIN:VTIMEZONE
TZID:America/New_York
BEGIN:DAYLIGHT
TZOFFSETFROM:-0500
TZOFFSETTO:-0400
TZNAME:EDT
DTSTART:20240310T070000
END:DAYLIGHT
BEGIN:STANDARD
TZOFFSETFROM:-0400
TZOFFSETTO:-0500
TZNAME:EST
DTSTART:20241103T060000
END:STANDARD
BEGIN:DAYLIGHT
TZOFFSETFROM:-0500
TZOFFSETTO:-0400
TZNAME:EDT
DTSTART:20250309T070000
END:DAYLIGHT
BEGIN:STANDARD
TZOFFSETFROM:-0400
TZOFFSETTO:-0500
TZNAME:EST
DTSTART:20251102T060000
END:STANDARD
BEGIN:DAYLIGHT
TZOFFSETFROM:-0500
TZOFFSETTO:-0400
TZNAME:EDT
DTSTART:20260308T070000
END:DAYLIGHT
BEGIN:STANDARD
TZOFFSETFROM:-0400
TZOFFSETTO:-0500
TZNAME:EST
DTSTART:20261101T060000
END:STANDARD
END:VTIMEZONE
BEGIN:VEVENT
DTSTART;TZID=America/New_York:20251117T100000
DTEND;TZID=America/New_York:20251117T130000
DTSTAMP:20260423T060409
CREATED:20251016T171325Z
LAST-MODIFIED:20251022T145723Z
UID:23547-1763373600-1763384400@jfcssnj.org
SUMMARY:Thanksgiving Drop & Go Food Drive
DESCRIPTION:Help spread the joy of Thanksgiving to your neighbors in need! The Betsy & Peter Fischer Food Pantry will be collecting donations of Kosher\, nonperishable Thanksgiving side dishes on Monday\, November 18 from 10am – 1pm. \nMost-needed items include: Mashed Potatoes\, Canned Yams\, Canned String Beans\, Canned Peas\, Canned Corn\, Canned Pineapple\, Stuffing\, Pie Crust\, Applesauce\, Apple Juice\, and Cake Mix. \nFor those planning to drop off large carloads of food\, please reach out to Deena Neuwirth in advance to schedule a convenient drop off time: 856-477-1314 or dneuwirth@jfedsnj.org. \nPrefer to shop online? Check out our Food Pantry Amazon Wish List by clicking HERE. Your purchase will be delivered right to our door!
URL:https://jfcssnj.org/event/thanksgiving-food-drive-2025/
LOCATION:Rhona Fischer Family Assistance Building\, 6 East Miami Avenue\, Cherry Hill\, 08034\, United States
CATEGORIES:Community Outreach,Family Assistance
ATTACH;FMTTYPE=image/png:https://jfcssnj.org/wp-content/uploads/2025/10/thanksgiving-food-drive.png
ORGANIZER;CN="Deena Neuwirth":MAILTO:dneuwirth@jfedsnj.org
END:VEVENT
BEGIN:VEVENT
DTSTART;TZID=America/New_York:20251117T100000
DTEND;TZID=America/New_York:20251117T150000
DTSTAMP:20260423T060409
CREATED:20251111T184046Z
LAST-MODIFIED:20251112T152045Z
UID:23646-1763373600-1763391600@jfcssnj.org
SUMMARY:Betsy & Peter Fischer Food Pantry Mobile Donation Site
DESCRIPTION:From Monday\, November 17 through Tuesday\, November 25\, JFCS will host a satellite food donation site at the Weinberg Jewish Community Campus — next to the Sari Isdaner Early Childhood Center and JFCS Main Office. Our mobile pantry trailer will be open daily from 10am to 3pm (except Shabbat)\, accepting donations of Kosher\, nonperishable food and supermarket gift cards. Most-needed Kosher items include cereal\, granola bars\, canned fruits and vegetables\, soups\, pasta\, rice\, peanut butter\, jelly\, juice\, shelf-stable milk\, canned fish\, snacks\, baby food\, and formula.\nSpecial thanks to NFI Industries for generously donating the trailer that makes this “pop-up” pantry possible!
URL:https://jfcssnj.org/event/betsy-peter-fischer-pop-up-food-pantry/
LOCATION:Katz JCC\, housed in the Gottlieb Center for Jewish Life\, 1301 Springdale Road\, Cherry Hill\, NJ\, 08003\, United States
CATEGORIES:Community Outreach,Family Assistance
ATTACH;FMTTYPE=image/png:https://jfcssnj.org/wp-content/uploads/2025/11/Untitled-design.png
ORGANIZER;CN="Meri Seligman":MAILTO:mseligman@jfedsnj.org
END:VEVENT
BEGIN:VEVENT
DTSTART;TZID=America/New_York:20251118T100000
DTEND;TZID=America/New_York:20251118T150000
DTSTAMP:20260423T060409
CREATED:20251111T185438Z
LAST-MODIFIED:20251112T152124Z
UID:23648-1763460000-1763478000@jfcssnj.org
SUMMARY:Betsy & Peter Fischer Food Pantry Mobile Donation Site
DESCRIPTION:From Monday\, November 17 through Tuesday\, November 25\, JFCS will host a satellite food donation site at the Weinberg Jewish Community Campus — next to the Sari Isdaner Early Childhood Center and JFCS Main Office. Our mobile pantry trailer will be open daily from 10am to 3pm (except Shabbat)\, accepting donations of Kosher\, nonperishable food and supermarket gift cards. Most-needed Kosher items include cereal\, granola bars\, canned fruits and vegetables\, soups\, pasta\, rice\, peanut butter\, jelly\, juice\, shelf-stable milk\, canned fish\, snacks\, baby food\, and formula.\nSpecial thanks to NFI Industries for generously donating the trailer that makes this “pop-up” pantry possible!
URL:https://jfcssnj.org/event/betsy-peter-fischer-pop-up-food-pantry-2/
LOCATION:Katz JCC\, housed in the Gottlieb Center for Jewish Life\, 1301 Springdale Road\, Cherry Hill\, NJ\, 08003\, United States
CATEGORIES:Community Outreach,Family Assistance
ATTACH;FMTTYPE=image/png:https://jfcssnj.org/wp-content/uploads/2025/11/Untitled-design.png
ORGANIZER;CN="Meri Seligman":MAILTO:mseligman@jfedsnj.org
END:VEVENT
BEGIN:VEVENT
DTSTART;TZID=America/New_York:20251119T100000
DTEND;TZID=America/New_York:20251119T150000
DTSTAMP:20260423T060409
CREATED:20251111T201557Z
LAST-MODIFIED:20251112T152707Z
UID:23651-1763546400-1763564400@jfcssnj.org
SUMMARY:Betsy & Peter Fischer Food Pantry Mobile Donation Site
DESCRIPTION:From Monday\, November 17 through Tuesday\, November 25\, JFCS will host a satellite food donation site at the Weinberg Jewish Community Campus — next to the Sari Isdaner Early Childhood Center and JFCS Main Office. Our mobile pantry trailer will be open daily from 10am to 3pm (except Shabbat)\, accepting donations of Kosher\, nonperishable food and supermarket gift cards. Most-needed Kosher items include cereal\, granola bars\, canned fruits and vegetables\, soups\, pasta\, rice\, peanut butter\, jelly\, juice\, shelf-stable milk\, canned fish\, snacks\, baby food\, and formula.\nSpecial thanks to NFI Industries for generously donating the trailer that makes this “pop-up” pantry possible!
URL:https://jfcssnj.org/event/betsy-peter-fischer-pop-up-food-pantry-3/
LOCATION:Katz JCC\, housed in the Gottlieb Center for Jewish Life\, 1301 Springdale Road\, Cherry Hill\, NJ\, 08003\, United States
CATEGORIES:Community Outreach,Family Assistance
ATTACH;FMTTYPE=image/png:https://jfcssnj.org/wp-content/uploads/2025/11/Untitled-design.png
ORGANIZER;CN="Meri Seligman":MAILTO:mseligman@jfedsnj.org
END:VEVENT
BEGIN:VEVENT
DTSTART;TZID=America/New_York:20251120T100000
DTEND;TZID=America/New_York:20251120T150000
DTSTAMP:20260423T060409
CREATED:20251111T201826Z
LAST-MODIFIED:20251112T152732Z
UID:23653-1763632800-1763650800@jfcssnj.org
SUMMARY:Betsy & Peter Fischer Food Pantry Mobile Donation Site
DESCRIPTION:From Monday\, November 17 through Tuesday\, November 25\, JFCS will host a satellite food donation site at the Weinberg Jewish Community Campus — next to the Sari Isdaner Early Childhood Center and JFCS Main Office. Our mobile pantry trailer will be open daily from 10am to 3pm (except Shabbat)\, accepting donations of Kosher\, nonperishable food and supermarket gift cards. Most-needed Kosher items include cereal\, granola bars\, canned fruits and vegetables\, soups\, pasta\, rice\, peanut butter\, jelly\, juice\, shelf-stable milk\, canned fish\, snacks\, baby food\, and formula.\nSpecial thanks to NFI Industries for generously donating the trailer that makes this “pop-up” pantry possible!
URL:https://jfcssnj.org/event/betsy-peter-fischer-pop-up-food-pantry-4/
LOCATION:Katz JCC\, housed in the Gottlieb Center for Jewish Life\, 1301 Springdale Road\, Cherry Hill\, NJ\, 08003\, United States
CATEGORIES:Community Outreach,Family Assistance
ATTACH;FMTTYPE=image/png:https://jfcssnj.org/wp-content/uploads/2025/11/Untitled-design.png
ORGANIZER;CN="Meri Seligman":MAILTO:mseligman@jfedsnj.org
END:VEVENT
BEGIN:VEVENT
DTSTART;TZID=America/New_York:20251121T100000
DTEND;TZID=America/New_York:20251121T150000
DTSTAMP:20260423T060409
CREATED:20251111T203117Z
LAST-MODIFIED:20251112T152825Z
UID:23655-1763719200-1763737200@jfcssnj.org
SUMMARY:Betsy & Peter Fischer Food Pantry Mobile Donation Site
DESCRIPTION:From Monday\, November 17 through Tuesday\, November 25\, JFCS will host a satellite food donation site at the Weinberg Jewish Community Campus — next to the Sari Isdaner Early Childhood Center and JFCS Main Office. Our mobile pantry trailer will be open daily from 10am to 3pm (except Shabbat)\, accepting donations of Kosher\, nonperishable food and supermarket gift cards. Most-needed Kosher items include cereal\, granola bars\, canned fruits and vegetables\, soups\, pasta\, rice\, peanut butter\, jelly\, juice\, shelf-stable milk\, canned fish\, snacks\, baby food\, and formula.\nSpecial thanks to NFI Industries for generously donating the trailer that makes this “pop-up” pantry possible!
URL:https://jfcssnj.org/event/betsy-peter-fischer-pop-up-food-pantry-5/
LOCATION:Katz JCC\, housed in the Gottlieb Center for Jewish Life\, 1301 Springdale Road\, Cherry Hill\, NJ\, 08003\, United States
CATEGORIES:Community Outreach,Family Assistance
ATTACH;FMTTYPE=image/png:https://jfcssnj.org/wp-content/uploads/2025/11/Untitled-design.png
ORGANIZER;CN="Meri Seligman":MAILTO:mseligman@jfedsnj.org
END:VEVENT
BEGIN:VEVENT
DTSTART;TZID=America/New_York:20251123T100000
DTEND;TZID=America/New_York:20251123T150000
DTSTAMP:20260423T060409
CREATED:20251111T203214Z
LAST-MODIFIED:20251112T152855Z
UID:23650-1763892000-1763910000@jfcssnj.org
SUMMARY:Betsy & Peter Fischer Food Pantry Mobile Donation Site
DESCRIPTION:From Monday\, November 17 through Tuesday\, November 25\, JFCS will host a satellite food donation site at the Weinberg Jewish Community Campus — next to the Sari Isdaner Early Childhood Center and JFCS Main Office. Our mobile pantry trailer will be open daily from 10am to 3pm (except Shabbat)\, accepting donations of Kosher\, nonperishable food and supermarket gift cards. Most-needed Kosher items include cereal\, granola bars\, canned fruits and vegetables\, soups\, pasta\, rice\, peanut butter\, jelly\, juice\, shelf-stable milk\, canned fish\, snacks\, baby food\, and formula.\nSpecial thanks to NFI Industries for generously donating the trailer that makes this “pop-up” pantry possible!
URL:https://jfcssnj.org/event/betsy-peter-fischer-pop-up-food-pantry-6/
LOCATION:Katz JCC\, housed in the Gottlieb Center for Jewish Life\, 1301 Springdale Road\, Cherry Hill\, NJ\, 08003\, United States
CATEGORIES:Community Outreach,Family Assistance
ATTACH;FMTTYPE=image/png:https://jfcssnj.org/wp-content/uploads/2025/11/Untitled-design.png
ORGANIZER;CN="Meri Seligman":MAILTO:mseligman@jfedsnj.org
END:VEVENT
BEGIN:VEVENT
DTSTART;TZID=America/New_York:20251124T100000
DTEND;TZID=America/New_York:20251124T150000
DTSTAMP:20260423T060409
CREATED:20251111T204635Z
LAST-MODIFIED:20251112T152922Z
UID:23658-1763978400-1763996400@jfcssnj.org
SUMMARY:Betsy & Peter Fischer Food Pantry Mobile Donation Site
DESCRIPTION:From Monday\, November 17 through Tuesday\, November 25\, JFCS will host a satellite food donation site at the Weinberg Jewish Community Campus — next to the Sari Isdaner Early Childhood Center and JFCS Main Office. Our mobile pantry trailer will be open daily from 10am to 3pm (except Shabbat)\, accepting donations of Kosher\, nonperishable food and supermarket gift cards. Most-needed Kosher items include cereal\, granola bars\, canned fruits and vegetables\, soups\, pasta\, rice\, peanut butter\, jelly\, juice\, shelf-stable milk\, canned fish\, snacks\, baby food\, and formula.\nSpecial thanks to NFI Industries for generously donating the trailer that makes this “pop-up” pantry possible!
URL:https://jfcssnj.org/event/betsy-peter-fischer-pop-up-food-pantry-7/
LOCATION:Katz JCC\, housed in the Gottlieb Center for Jewish Life\, 1301 Springdale Road\, Cherry Hill\, NJ\, 08003\, United States
CATEGORIES:Community Outreach,Family Assistance
ATTACH;FMTTYPE=image/png:https://jfcssnj.org/wp-content/uploads/2025/11/Untitled-design.png
ORGANIZER;CN="Meri Seligman":MAILTO:mseligman@jfedsnj.org
END:VEVENT
BEGIN:VEVENT
DTSTART;TZID=America/New_York:20251125T100000
DTEND;TZID=America/New_York:20251125T150000
DTSTAMP:20260423T060409
CREATED:20251111T204833Z
LAST-MODIFIED:20251112T154944Z
UID:23660-1764064800-1764082800@jfcssnj.org
SUMMARY:Betsy & Peter Fischer Food Pantry Mobile Donation Site
DESCRIPTION:From Monday\, November 17 through Tuesday\, November 25\, JFCS will host a satellite food donation site at the Weinberg Jewish Community Campus — next to the Sari Isdaner Early Childhood Center and JFCS Main Office. Our mobile pantry trailer will be open daily from 10am to 3pm (except Shabbat)\, accepting donations of Kosher\, nonperishable food and supermarket gift cards. Most-needed Kosher items include cereal\, granola bars\, canned fruits and vegetables\, soups\, pasta\, rice\, peanut butter\, jelly\, juice\, shelf-stable milk\, canned fish\, snacks\, baby food\, and formula.\nSpecial thanks to NFI Industries for generously donating the trailer that makes this “pop-up” pantry possible!
URL:https://jfcssnj.org/event/betsy-peter-fischer-pop-up-food-pantry-8/
LOCATION:Katz JCC\, housed in the Gottlieb Center for Jewish Life\, 1301 Springdale Road\, Cherry Hill\, NJ\, 08003\, United States
CATEGORIES:Community Outreach,Family Assistance
ATTACH;FMTTYPE=image/png:https://jfcssnj.org/wp-content/uploads/2025/11/Untitled-design.png
ORGANIZER;CN="Meri Seligman":MAILTO:mseligman@jfedsnj.org
END:VEVENT
END:VCALENDAR