BEGIN:VCALENDAR
VERSION:2.0
PRODID:-//JFCS of SNJ - ECPv6.15.12.1//NONSGML v1.0//EN
CALSCALE:GREGORIAN
METHOD:PUBLISH
X-WR-CALNAME:JFCS of SNJ
X-ORIGINAL-URL:https://jfcssnj.org
X-WR-CALDESC:Events for JFCS of SNJ
REFRESH-INTERVAL;VALUE=DURATION:PT1H
X-Robots-Tag:noindex
X-PUBLISHED-TTL:PT1H
BEGIN:VTIMEZONE
TZID:America/New_York
BEGIN:DAYLIGHT
TZOFFSETFROM:-0500
TZOFFSETTO:-0400
TZNAME:EDT
DTSTART:20240310T070000
END:DAYLIGHT
BEGIN:STANDARD
TZOFFSETFROM:-0400
TZOFFSETTO:-0500
TZNAME:EST
DTSTART:20241103T060000
END:STANDARD
BEGIN:DAYLIGHT
TZOFFSETFROM:-0500
TZOFFSETTO:-0400
TZNAME:EDT
DTSTART:20250309T070000
END:DAYLIGHT
BEGIN:STANDARD
TZOFFSETFROM:-0400
TZOFFSETTO:-0500
TZNAME:EST
DTSTART:20251102T060000
END:STANDARD
BEGIN:DAYLIGHT
TZOFFSETFROM:-0500
TZOFFSETTO:-0400
TZNAME:EDT
DTSTART:20260308T070000
END:DAYLIGHT
BEGIN:STANDARD
TZOFFSETFROM:-0400
TZOFFSETTO:-0500
TZNAME:EST
DTSTART:20261101T060000
END:STANDARD
END:VTIMEZONE
BEGIN:VEVENT
DTSTART;TZID=America/New_York:20251211T100000
DTEND;TZID=America/New_York:20251211T113000
DTSTAMP:20260422T043444
CREATED:20251113T031759Z
LAST-MODIFIED:20251113T031759Z
UID:23688-1765447200-1765452600@jfcssnj.org
SUMMARY:Project SEARCH In-Person Info Session
DESCRIPTION:Parents\, students\, and school districts are invited to join us for an In-Person Info Session to find out more about Project SEARCH at Jefferson Cherry Hill Hospital. Learn about this award-winning program – the only Project SEARCH program in New Jersey with enhanced autism-to-work training from NEXT for AUTISM. Over 90% of graduates obtain competitive employment! Register at yaleschoolnj.com/events. \nProject SEARCH is a nationally recognized one-year\, high school transition program which provides education and training of employability skills to students with disabilities. JFCS is proud to be the Community Rehabilitation Provider for both Jefferson Health and TD Bank Project SEARCH programs
URL:https://jfcssnj.org/event/project-search-in-person-info-session/
LOCATION:Jefferson Hospital Cherry Hill\, Chapel Avenue West 2201\, Cherry Hill Township\, NJ\, 08002\, United States
CATEGORIES:Disability Services
ORGANIZER;CN="Janeene Martin":MAILTO:jmartin@jfedsnj.org
END:VEVENT
END:VCALENDAR