BEGIN:VCALENDAR
VERSION:2.0
PRODID:-//JFCS of SNJ - ECPv6.15.12.1//NONSGML v1.0//EN
CALSCALE:GREGORIAN
METHOD:PUBLISH
X-WR-CALNAME:JFCS of SNJ
X-ORIGINAL-URL:https://jfcssnj.org
X-WR-CALDESC:Events for JFCS of SNJ
REFRESH-INTERVAL;VALUE=DURATION:PT1H
X-Robots-Tag:noindex
X-PUBLISHED-TTL:PT1H
BEGIN:VTIMEZONE
TZID:America/New_York
BEGIN:DAYLIGHT
TZOFFSETFROM:-0500
TZOFFSETTO:-0400
TZNAME:EDT
DTSTART:20250309T070000
END:DAYLIGHT
BEGIN:STANDARD
TZOFFSETFROM:-0400
TZOFFSETTO:-0500
TZNAME:EST
DTSTART:20251102T060000
END:STANDARD
BEGIN:DAYLIGHT
TZOFFSETFROM:-0500
TZOFFSETTO:-0400
TZNAME:EDT
DTSTART:20260308T070000
END:DAYLIGHT
BEGIN:STANDARD
TZOFFSETFROM:-0400
TZOFFSETTO:-0500
TZNAME:EST
DTSTART:20261101T060000
END:STANDARD
BEGIN:DAYLIGHT
TZOFFSETFROM:-0500
TZOFFSETTO:-0400
TZNAME:EDT
DTSTART:20270314T070000
END:DAYLIGHT
BEGIN:STANDARD
TZOFFSETFROM:-0400
TZOFFSETTO:-0500
TZNAME:EST
DTSTART:20271107T060000
END:STANDARD
END:VTIMEZONE
BEGIN:VEVENT
DTSTART;TZID=America/New_York:20260312T103000
DTEND;TZID=America/New_York:20260312T120000
DTSTAMP:20260422T045409
CREATED:20251215T183527Z
LAST-MODIFIED:20251215T183527Z
UID:23808-1773311400-1773316800@jfcssnj.org
SUMMARY:Café Connection - A Memory Café
DESCRIPTION:Café Connection is a monthly social gathering for older adults affected by memory challenges\, along with their care partners. Join us for engaging conversation and a creative experience with a guest artist! Free and open to the community – advance RSVP required. To learn more or to RSVP\, contact Reva Farenback-Brateman at rfbrateman@jfedsnj.org or 856-424-1333 ext. 1184.\nThis program is a collaboration of Jewish Family & Children’s Service\, Jewish Senior Housing and Healthcare Service\, and the Katz JCC. Grant funding provided by the Raymond & Gertrude R. Saltzman Foundation and the Camden County Board of Commissioners.
URL:https://jfcssnj.org/event/cafe-connection-a-memory-cafe-27/
LOCATION:Katz JCC\, housed in the Gottlieb Center for Jewish Life\, 1301 Springdale Road\, Cherry Hill\, NJ\, 08003\, United States
CATEGORIES:Older Adult Services,Support Group
ATTACH;FMTTYPE=image/jpeg:https://jfcssnj.org/wp-content/uploads/2022/12/CAFE-CONNECTION.jpg
ORGANIZER;CN="Reva Farenback-Brateman":MAILTO:rfbrateman@jfedsnj.org
END:VEVENT
BEGIN:VEVENT
DTSTART;TZID=America/New_York:20260313T130000
DTEND;TZID=America/New_York:20260313T143000
DTSTAMP:20260422T045409
CREATED:20251216T160745Z
LAST-MODIFIED:20251216T160745Z
UID:23838-1773406800-1773412200@jfcssnj.org
SUMMARY:LGBTQ+ Aging with Pride
DESCRIPTION:Looking for a welcoming and supportive community for LGBTQ+ seniors? Look no further! Aging with Pride offers a safe space for older adults to connect\, share experiences\, and build lasting friendships. We understand the unique challenges faced by LGBTQ+ seniors and we’re here to provide a space where you can be yourself and find support. Our group offers a diverse range of activities and resources to help you feel engaged and connected. Join us and discover the power of community!  \nAll are welcome! Advance RSVP is required by contacting Reva Farenback-Brateman at 856-424-1333 ext. 1184 or rfbrateman@jfedsnj.org.\nSponsored by Timothy Rice Estate and Elder Law. Grant funding provided by the Raymond & Gertrude R. Saltzman Foundation.
URL:https://jfcssnj.org/event/lgbtq-aging-with-pride-4/
LOCATION:Katz JCC\, housed in the Gottlieb Center for Jewish Life\, 1301 Springdale Road\, Cherry Hill\, NJ\, 08003\, United States
CATEGORIES:LGBTQ+,Support Group
ATTACH;FMTTYPE=image/jpeg:https://jfcssnj.org/wp-content/uploads/2022/12/aging-with-pride.jpeg
ORGANIZER;CN="Reva Farenback-Brateman":MAILTO:rfbrateman@jfedsnj.org
END:VEVENT
BEGIN:VEVENT
DTSTART;TZID=America/New_York:20260323T100000
DTEND;TZID=America/New_York:20260323T130000
DTSTAMP:20260422T045409
CREATED:20251216T164253Z
LAST-MODIFIED:20251216T164253Z
UID:23864-1774260000-1774270800@jfcssnj.org
SUMMARY:Passover Food Drive
DESCRIPTION:“Whoever is hungry\, come and eat. Whoever is needy\, come and celebrate Passover.” Your donation of Kosher for Passover food will help our neighbors in need celebrate the holiday! Most-needed Passover items include: Matzo • Matzo Meal • Matzo Ball Soup Mix • Passover Cake Mixes • Cake Meal • Gefilte Fish • Borscht • Chicken Broth • Grape Juice • Canned Fish • Canned Fruits & Vegetables • Dried Fruits & Nuts. \nWhen cleaning your home to eliminate chametz / grain products for Passover\, please consider donating any unopened\, nonperishable food items you no longer wish to keep in your home\, including cereal\, rice\, pasta\, tomato products\, peanut butter\, and jelly. \n* For 24/7 donations\, please use the collection container at 6 East Miami Avenue\, located outside the Feldman Carriage House at the rear of the parking lot. \n** For those who wish to donate on the East Side of Cherry Hill\, we can accept donations at the JFCS main office (1301 Springdale Road\, Suite 150) on Tuesdays and Thursdays from 9am – 2pm. \nQuestions? Contact Deena Neuwirth at (856) 477-1314.
URL:https://jfcssnj.org/event/passover-food-drive-3/
LOCATION:Rhona Fischer Family Assistance Building\, 6 East Miami Avenue\, Cherry Hill\, 08034\, United States
CATEGORIES:Family Assistance
ATTACH;FMTTYPE=image/png:https://jfcssnj.org/wp-content/uploads/2024/12/Passover-Food-Drive.png
ORGANIZER;CN="Deena Neuwirth":MAILTO:dneuwirth@jfedsnj.org
END:VEVENT
BEGIN:VEVENT
DTSTART;TZID=America/New_York:20260325T143000
DTEND;TZID=America/New_York:20260325T163000
DTSTAMP:20260422T045409
CREATED:20260205T175437Z
LAST-MODIFIED:20260318T181657Z
UID:24087-1774449000-1774456200@jfcssnj.org
SUMMARY:The Empty Chair at the Seder
DESCRIPTION:A Passover Workshop for Bereaved Jews\nJoin us for a conversation honoring the memory and life of those you have lost\, while seeking meaning and comfort through the themes of Passover. This program will be co-facilitated by Rabbi Richard F. Address\, Director of Jewish Sacred Aging\, and Reva Farenback-Brateman\, JFCS Geriatric Case Manager & Community Educator. Free and open to all. Light refreshments will be served. \nAdvance RSVP is required by contacting Reva Farenback-Brateman: rfbrateman@jfedsnj.org or (856) 424-1333 ext. 1184. \nGrant funding provided by the Raymond & Gertrude R. Saltzman Foundation
URL:https://jfcssnj.org/event/the-empty-chair-at-the-seder-2/
LOCATION:Temple Beth Sholom\, 1901 Kresson Rd\,\, Cherry Hill \, NJ\, 08003\, United States
CATEGORIES:Community Outreach,Support Group
ATTACH;FMTTYPE=image/png:https://jfcssnj.org/wp-content/uploads/2025/02/the-empty-chair-e1756407891844.png
ORGANIZER;CN="Reva Farenback-Brateman":MAILTO:rfbrateman@jfedsnj.org
END:VEVENT
BEGIN:VEVENT
DTSTART;TZID=America/New_York:20260326T183000
DTEND;TZID=America/New_York:20260326T213000
DTSTAMP:20260422T045409
CREATED:20251215T194455Z
LAST-MODIFIED:20260204T211028Z
UID:23818-1774549800-1774560600@jfcssnj.org
SUMMARY:Stepping Out with JFCS
DESCRIPTION:  \n  \n  \n  \n  \n  \n  \n  \n  \n  \nJoin us for a fabulous evening of community\, learning\, and friendship! For information\, event tickets\, and grand prize raffle tickets\, click HERE.\n 
URL:https://jfcssnj.org/event/stepping-out-with-jfcs-2/
LOCATION:Congregation Beth El\, 8000 Main Street\, Voorhees\, NJ\, 08043\, United States
CATEGORIES:Community Outreach
ORGANIZER;CN="Kelly Guiliano":MAILTO:kguiliano@jfedsnj.org
END:VEVENT
END:VCALENDAR