BEGIN:VCALENDAR
VERSION:2.0
PRODID:-//JFCS of SNJ - ECPv6.15.12.1//NONSGML v1.0//EN
CALSCALE:GREGORIAN
METHOD:PUBLISH
X-ORIGINAL-URL:https://jfcssnj.org
X-WR-CALDESC:Events for JFCS of SNJ
REFRESH-INTERVAL;VALUE=DURATION:PT1H
X-Robots-Tag:noindex
X-PUBLISHED-TTL:PT1H
BEGIN:VTIMEZONE
TZID:America/New_York
BEGIN:DAYLIGHT
TZOFFSETFROM:-0500
TZOFFSETTO:-0400
TZNAME:EDT
DTSTART:20250309T070000
END:DAYLIGHT
BEGIN:STANDARD
TZOFFSETFROM:-0400
TZOFFSETTO:-0500
TZNAME:EST
DTSTART:20251102T060000
END:STANDARD
BEGIN:DAYLIGHT
TZOFFSETFROM:-0500
TZOFFSETTO:-0400
TZNAME:EDT
DTSTART:20260308T070000
END:DAYLIGHT
BEGIN:STANDARD
TZOFFSETFROM:-0400
TZOFFSETTO:-0500
TZNAME:EST
DTSTART:20261101T060000
END:STANDARD
BEGIN:DAYLIGHT
TZOFFSETFROM:-0500
TZOFFSETTO:-0400
TZNAME:EDT
DTSTART:20270314T070000
END:DAYLIGHT
BEGIN:STANDARD
TZOFFSETFROM:-0400
TZOFFSETTO:-0500
TZNAME:EST
DTSTART:20271107T060000
END:STANDARD
END:VTIMEZONE
BEGIN:VEVENT
DTSTART;TZID=America/New_York:20260426T133000
DTEND;TZID=America/New_York:20260426T143000
DTSTAMP:20260422T043144
CREATED:20260416T171217Z
LAST-MODIFIED:20260416T175036Z
UID:24271-1777210200-1777213800@jfcssnj.org
SUMMARY:Flagging of the Graves of our Veterans
DESCRIPTION:Please join JFCS\, the Jewish War Veterans\, and the Camden County Board of Commissioners and the Office of Veteran Affairs to flag approximately 1\,300 Jewish veteran graves at Crescent Memorial Park Cemetery on Sunday\, April 26 at 1:30PM. Registration is required and space is limited. This event will occur rain or shine. Please wear comfortable walking shoes. You may bring a brush to clean off graves and a hammer to help push the flags into the ground. \n \n 
URL:https://jfcssnj.org/event/crescent-memorial-park-flagging-of-the-graves-of-our-veterans/
LOCATION:Crescent Memorial Park\, 7349 Westfield Avenue\, Pennsauken\, NJ\, 08110\, United States
CATEGORIES:Volunteer Opportunity
ATTACH;FMTTYPE=image/jpeg:https://jfcssnj.org/wp-content/uploads/2026/04/flagging-scaled.jpg
ORGANIZER;CN="Miranda Mason":MAILTO:mmason@jfedsnj.org
END:VEVENT
END:VCALENDAR